BEGIN:VCALENDAR
VERSION:2.0
PRODID:-//eventon.com NONSGML v1.0//EN
BEGIN:VEVENT
UID:69e7d70a9181e
DTSTAMP:20260421T215906
DTSTART:20180913T163000Z
DTEND:20180913T190000Z
LOCATION:Theodor-Schäfer-Berufsbildungswerk Husum Theodor-Schäfer-Straße 14-26\,  25813 Husum
SUMMARY:15. Herbstgespräch des Theodor-Schäfer-Berufsbildungswerkes:
DESCRIPTION: [button url="https://kurseundwebinare.de/eindruecke-vom-15-herbstgespraech-des-theodor-schaefer-berufsbildungswerkes/" class="" bg="" hover_bg="" size="0px" color="" radius="0px" width="0px" height="0px" target="_self"] zum Blog-Beitrag [/button]
END:VEVENT
END:VCALENDAR