BEGIN:VCALENDAR
VERSION:2.0
PRODID:-//eventon.com NONSGML v1.0//EN
BEGIN:VEVENT
UID:69e7d5fcd7b72
DTSTAMP:20260421T215436
DTSTART:20190227T070000Z
DTEND:20190227T080000Z
LOCATION:Online-Event 
SUMMARY:Info-Webinar für Interessierte
DESCRIPTION: Sie sind interessiert an Weiterbildungsmöglichkeiten und/oder bilden sich bereits durch Kurse\,  Webinare\,  eLearnings\,  eBooks sowie durch die Teilnahme an Vorträge\,  Workshops usw. weiter? Oder sind selbst Anbieter von (Weiter-)Bildungsangeboten und suchen nach neuen Vertriebsmöglichkeiten? Dann nehmen einfach an unserer aller ersten Info-Veranstaltung am 27./28.02.19 bei unserem Webinar teil. Sie sind[..]
END:VEVENT
END:VCALENDAR